BEGIN:VCALENDAR
VERSION:2.0
PRODID:-//Willy-Brandt-Gesamtschule - ECPv6.15.20//NONSGML v1.0//EN
CALSCALE:GREGORIAN
METHOD:PUBLISH
X-ORIGINAL-URL:https://wbg.marl.de
X-WR-CALDESC:Veranstaltungen für Willy-Brandt-Gesamtschule
REFRESH-INTERVAL;VALUE=DURATION:PT1H
X-Robots-Tag:noindex
X-PUBLISHED-TTL:PT1H
BEGIN:VTIMEZONE
TZID:Europe/Berlin
BEGIN:DAYLIGHT
TZOFFSETFROM:+0100
TZOFFSETTO:+0200
TZNAME:CEST
DTSTART:20250330T010000
END:DAYLIGHT
BEGIN:STANDARD
TZOFFSETFROM:+0200
TZOFFSETTO:+0100
TZNAME:CET
DTSTART:20251026T010000
END:STANDARD
BEGIN:DAYLIGHT
TZOFFSETFROM:+0100
TZOFFSETTO:+0200
TZNAME:CEST
DTSTART:20260329T010000
END:DAYLIGHT
BEGIN:STANDARD
TZOFFSETFROM:+0200
TZOFFSETTO:+0100
TZNAME:CET
DTSTART:20261025T010000
END:STANDARD
BEGIN:DAYLIGHT
TZOFFSETFROM:+0100
TZOFFSETTO:+0200
TZNAME:CEST
DTSTART:20270328T010000
END:DAYLIGHT
BEGIN:STANDARD
TZOFFSETFROM:+0200
TZOFFSETTO:+0100
TZNAME:CET
DTSTART:20271031T010000
END:STANDARD
END:VTIMEZONE
BEGIN:VEVENT
DTSTART;TZID=Europe/Berlin:20260623T020000
DTEND;TZID=Europe/Berlin:20260624T015959
DTSTAMP:20260421T205914
CREATED:20250922T040933Z
LAST-MODIFIED:20250922T040933Z
UID:3595-1782180000-1782266399@wbg.marl.de
SUMMARY:Übergabekonferenz Teamebene
DESCRIPTION:
URL:https://wbg.marl.de/termine/uebergabekonferenz-teamebene/
END:VEVENT
BEGIN:VEVENT
DTSTART;TZID=Europe/Berlin:20260624T020000
DTEND;TZID=Europe/Berlin:20260625T015959
DTSTAMP:20260421T205914
CREATED:20250922T040933Z
LAST-MODIFIED:20250922T040933Z
UID:3596-1782266400-1782352799@wbg.marl.de
SUMMARY:mündliche Prüfungen ZP10
DESCRIPTION:
URL:https://wbg.marl.de/termine/muendliche-pruefungen-zp10-2/
END:VEVENT
BEGIN:VEVENT
DTSTART;TZID=Europe/Berlin:20260626T170000
DTEND;TZID=Europe/Berlin:20260626T220000
DTSTAMP:20260421T205914
CREATED:20250922T040934Z
LAST-MODIFIED:20250922T040934Z
UID:3597-1782493200-1782511200@wbg.marl.de
SUMMARY:Abiturfeier
DESCRIPTION:
URL:https://wbg.marl.de/termine/abiturfeier-2/
END:VEVENT
BEGIN:VEVENT
DTSTART;TZID=Europe/Berlin:20260629T130000
DTEND;TZID=Europe/Berlin:20260629T160000
DTSTAMP:20260421T205914
CREATED:20250922T040934Z
LAST-MODIFIED:20250922T040934Z
UID:3598-1782738000-1782748800@wbg.marl.de
SUMMARY:Zeugniskonferenzen Jg. 7/10
DESCRIPTION:
URL:https://wbg.marl.de/termine/zeugniskonferenzen-jg-7-10-3/
END:VEVENT
BEGIN:VEVENT
DTSTART;TZID=Europe/Berlin:20260702T130000
DTEND;TZID=Europe/Berlin:20260702T160000
DTSTAMP:20260421T205914
CREATED:20250922T040934Z
LAST-MODIFIED:20250922T040934Z
UID:3599-1782997200-1783008000@wbg.marl.de
SUMMARY:Zeugniskonferenzen Jg. 6/9
DESCRIPTION:
URL:https://wbg.marl.de/termine/zeugniskonferenzen-jg-6-9-3/
END:VEVENT
BEGIN:VEVENT
DTSTART;TZID=Europe/Berlin:20260703T020000
DTEND;TZID=Europe/Berlin:20260704T015959
DTSTAMP:20260421T205914
CREATED:20250922T040935Z
LAST-MODIFIED:20250922T040935Z
UID:3600-1783044000-1783130399@wbg.marl.de
SUMMARY:Noteneingabe Jg. EF/Q1
DESCRIPTION:
URL:https://wbg.marl.de/termine/noteneingabe-jg-ef-q1/
END:VEVENT
BEGIN:VEVENT
DTSTART;TZID=Europe/Berlin:20260705T020000
DTEND;TZID=Europe/Berlin:20260712T015959
DTSTAMP:20260421T205914
CREATED:20250922T040935Z
LAST-MODIFIED:20250922T040935Z
UID:3601-1783216800-1783821599@wbg.marl.de
SUMMARY:Fahrtenwoche Q1
DESCRIPTION:
URL:https://wbg.marl.de/termine/fahrtenwoche-q1/
END:VEVENT
BEGIN:VEVENT
DTSTART;TZID=Europe/Berlin:20260707T140000
DTEND;TZID=Europe/Berlin:20260707T160000
DTSTAMP:20260421T205914
CREATED:20250922T040935Z
LAST-MODIFIED:20250922T040935Z
UID:3602-1783432800-1783440000@wbg.marl.de
SUMMARY:Entlassung Jahrgang 10
DESCRIPTION:
URL:https://wbg.marl.de/termine/entlassung-jahrgang-10-2/
END:VEVENT
BEGIN:VEVENT
DTSTART;TZID=Europe/Berlin:20260708T100000
DTEND;TZID=Europe/Berlin:20260708T130000
DTSTAMP:20260421T205914
CREATED:20250922T040936Z
LAST-MODIFIED:20250922T040936Z
UID:3603-1783504800-1783515600@wbg.marl.de
SUMMARY:Teamsitzung Neues Team 5
DESCRIPTION:
URL:https://wbg.marl.de/termine/teamsitzung-neues-team-5-2/
END:VEVENT
BEGIN:VEVENT
DTSTART;TZID=Europe/Berlin:20260708T180000
DTEND;TZID=Europe/Berlin:20260708T190000
DTSTAMP:20260421T205914
CREATED:20250922T040936Z
LAST-MODIFIED:20250922T040936Z
UID:3604-1783533600-1783537200@wbg.marl.de
SUMMARY:Elternabend Neuer Jahrgang 5
DESCRIPTION:
URL:https://wbg.marl.de/termine/elternabend-neuer-jahrgang-5-2/
END:VEVENT
BEGIN:VEVENT
DTSTART;TZID=Europe/Berlin:20260709T130000
DTEND;TZID=Europe/Berlin:20260709T160000
DTSTAMP:20260421T205914
CREATED:20250922T040936Z
LAST-MODIFIED:20250922T040936Z
UID:3605-1783602000-1783612800@wbg.marl.de
SUMMARY:Zeugniskonferenzen Jg. 5/8
DESCRIPTION:
URL:https://wbg.marl.de/termine/zeugniskonferenzen-jg-5-8-3/
END:VEVENT
BEGIN:VEVENT
DTSTART;TZID=Europe/Berlin:20260713T140000
DTEND;TZID=Europe/Berlin:20260713T160000
DTSTAMP:20260421T205914
CREATED:20250922T040936Z
LAST-MODIFIED:20250922T040936Z
UID:3606-1783951200-1783958400@wbg.marl.de
SUMMARY:Zeugniskonferenzen Jg. EF/Q1
DESCRIPTION:
URL:https://wbg.marl.de/termine/zeugniskonferenzen-jg-ef-q1-2/
END:VEVENT
BEGIN:VEVENT
DTSTART;TZID=Europe/Berlin:20260714T100000
DTEND;TZID=Europe/Berlin:20260714T160000
DTSTAMP:20260421T205914
CREATED:20250922T040937Z
LAST-MODIFIED:20250922T040937Z
UID:3607-1784023200-1784044800@wbg.marl.de
SUMMARY:Übergabekonferenz Fachebene
DESCRIPTION:
URL:https://wbg.marl.de/termine/uebergabekonferenz-fachebene/
END:VEVENT
BEGIN:VEVENT
DTSTART;TZID=Europe/Berlin:20260716T020000
DTEND;TZID=Europe/Berlin:20260717T015959
DTSTAMP:20260421T205914
CREATED:20250922T040937Z
LAST-MODIFIED:20250922T040937Z
UID:3608-1784167200-1784253599@wbg.marl.de
SUMMARY:Schulfest
DESCRIPTION:
URL:https://wbg.marl.de/termine/schulfest/
END:VEVENT
BEGIN:VEVENT
DTSTART;TZID=Europe/Berlin:20260716T170000
DTEND;TZID=Europe/Berlin:20260716T220000
DTSTAMP:20260421T205914
CREATED:20250922T040937Z
LAST-MODIFIED:20250922T040937Z
UID:3609-1784221200-1784239200@wbg.marl.de
SUMMARY:Verabschiedung Kolleg:innen
DESCRIPTION:
URL:https://wbg.marl.de/termine/verabschiedung-kolleginnen-2/
END:VEVENT
BEGIN:VEVENT
DTSTART;TZID=Europe/Berlin:20260717T075500
DTEND;TZID=Europe/Berlin:20260717T104000
DTSTAMP:20260421T205914
CREATED:20250922T040938Z
LAST-MODIFIED:20250922T040938Z
UID:3610-1784274900-1784284800@wbg.marl.de
SUMMARY:Zeugnisse
DESCRIPTION:
URL:https://wbg.marl.de/termine/zeugnisse-3/
END:VEVENT
BEGIN:VEVENT
DTSTART;TZID=Europe/Berlin:20260720T020000
DTEND;TZID=Europe/Berlin:20260902T015959
DTSTAMP:20260421T205914
CREATED:20250922T040938Z
LAST-MODIFIED:20250922T040938Z
UID:3611-1784512800-1788314399@wbg.marl.de
SUMMARY:Sommerferien
DESCRIPTION:
URL:https://wbg.marl.de/termine/sommerferien/
END:VEVENT
END:VCALENDAR