BEGIN:VCALENDAR
VERSION:2.0
PRODID:-//Willy-Brandt-Gesamtschule - ECPv6.15.20//NONSGML v1.0//EN
CALSCALE:GREGORIAN
METHOD:PUBLISH
X-ORIGINAL-URL:https://wbg.marl.de
X-WR-CALDESC:Veranstaltungen für Willy-Brandt-Gesamtschule
REFRESH-INTERVAL;VALUE=DURATION:PT1H
X-Robots-Tag:noindex
X-PUBLISHED-TTL:PT1H
BEGIN:VTIMEZONE
TZID:Europe/Berlin
BEGIN:DAYLIGHT
TZOFFSETFROM:+0100
TZOFFSETTO:+0200
TZNAME:CEST
DTSTART:20250330T010000
END:DAYLIGHT
BEGIN:STANDARD
TZOFFSETFROM:+0200
TZOFFSETTO:+0100
TZNAME:CET
DTSTART:20251026T010000
END:STANDARD
BEGIN:DAYLIGHT
TZOFFSETFROM:+0100
TZOFFSETTO:+0200
TZNAME:CEST
DTSTART:20260329T010000
END:DAYLIGHT
BEGIN:STANDARD
TZOFFSETFROM:+0200
TZOFFSETTO:+0100
TZNAME:CET
DTSTART:20261025T010000
END:STANDARD
BEGIN:DAYLIGHT
TZOFFSETFROM:+0100
TZOFFSETTO:+0200
TZNAME:CEST
DTSTART:20270328T010000
END:DAYLIGHT
BEGIN:STANDARD
TZOFFSETFROM:+0200
TZOFFSETTO:+0100
TZNAME:CET
DTSTART:20271031T010000
END:STANDARD
END:VTIMEZONE
BEGIN:VEVENT
DTSTART;TZID=Europe/Berlin:20260126T010000
DTEND;TZID=Europe/Berlin:20260131T005959
DTSTAMP:20260421T181109
CREATED:20250922T040911Z
LAST-MODIFIED:20250922T040911Z
UID:3513-1769389200-1769821199@wbg.marl.de
SUMMARY:Kreisaufahrt EF
DESCRIPTION:
URL:https://wbg.marl.de/termine/kreisaufahrt-ef/
END:VEVENT
BEGIN:VEVENT
DTSTART;TZID=Europe/Berlin:20260127T010000
DTEND;TZID=Europe/Berlin:20260128T005959
DTSTAMP:20260421T181109
CREATED:20250922T040911Z
LAST-MODIFIED:20250922T040911Z
UID:3515-1769475600-1769561999@wbg.marl.de
SUMMARY:Q2 Projekttag mündliches Abitur
DESCRIPTION:
URL:https://wbg.marl.de/termine/q2-projekttag-muendliches-abitur/
END:VEVENT
BEGIN:VEVENT
DTSTART;TZID=Europe/Berlin:20260127T010000
DTEND;TZID=Europe/Berlin:20260128T005959
DTSTAMP:20260421T181109
CREATED:20251208T111429Z
LAST-MODIFIED:20251208T111429Z
UID:3829-1769475600-1769561999@wbg.marl.de
SUMMARY:05A Coolness-/Impulstraining
DESCRIPTION:
URL:https://wbg.marl.de/termine/05a-coolness-impulstraining/
END:VEVENT
BEGIN:VEVENT
DTSTART;TZID=Europe/Berlin:20260127T140000
DTEND;TZID=Europe/Berlin:20260127T160000
DTSTAMP:20260421T181109
CREATED:20250922T040911Z
LAST-MODIFIED:20250922T040911Z
UID:3516-1769522400-1769529600@wbg.marl.de
SUMMARY:FK Technik/Hauswirtschaft
DESCRIPTION:
URL:https://wbg.marl.de/termine/fk-technik-hauswirtschaft/
END:VEVENT
END:VCALENDAR