BEGIN:VCALENDAR
VERSION:2.0
PRODID:-//Willy-Brandt-Gesamtschule - ECPv6.15.20//NONSGML v1.0//EN
CALSCALE:GREGORIAN
METHOD:PUBLISH
X-WR-CALNAME:Willy-Brandt-Gesamtschule
X-ORIGINAL-URL:https://wbg.marl.de
X-WR-CALDESC:Veranstaltungen für Willy-Brandt-Gesamtschule
REFRESH-INTERVAL;VALUE=DURATION:PT1H
X-Robots-Tag:noindex
X-PUBLISHED-TTL:PT1H
BEGIN:VTIMEZONE
TZID:Europe/Berlin
BEGIN:DAYLIGHT
TZOFFSETFROM:+0100
TZOFFSETTO:+0200
TZNAME:CEST
DTSTART:20250330T010000
END:DAYLIGHT
BEGIN:STANDARD
TZOFFSETFROM:+0200
TZOFFSETTO:+0100
TZNAME:CET
DTSTART:20251026T010000
END:STANDARD
BEGIN:DAYLIGHT
TZOFFSETFROM:+0100
TZOFFSETTO:+0200
TZNAME:CEST
DTSTART:20260329T010000
END:DAYLIGHT
BEGIN:STANDARD
TZOFFSETFROM:+0200
TZOFFSETTO:+0100
TZNAME:CET
DTSTART:20261025T010000
END:STANDARD
BEGIN:DAYLIGHT
TZOFFSETFROM:+0100
TZOFFSETTO:+0200
TZNAME:CEST
DTSTART:20270328T010000
END:DAYLIGHT
BEGIN:STANDARD
TZOFFSETFROM:+0200
TZOFFSETTO:+0100
TZNAME:CET
DTSTART:20271031T010000
END:STANDARD
END:VTIMEZONE
BEGIN:VEVENT
DTSTART;TZID=Europe/Berlin:20260202T010000
DTEND;TZID=Europe/Berlin:20260203T005959
DTSTAMP:20260421T181023
CREATED:20250922T040912Z
LAST-MODIFIED:20250922T040912Z
UID:3519-1769994000-1770080399@wbg.marl.de
SUMMARY:EF Workshop II Berufsorientierung
DESCRIPTION:
URL:https://wbg.marl.de/termine/ef-workshop-ii-berufsorientierung/
END:VEVENT
BEGIN:VEVENT
DTSTART;TZID=Europe/Berlin:20260203T010000
DTEND;TZID=Europe/Berlin:20260204T005959
DTSTAMP:20260421T181023
CREATED:20251208T111430Z
LAST-MODIFIED:20251208T111430Z
UID:3831-1770080400-1770166799@wbg.marl.de
SUMMARY:05C Coolness-/Impulstraining
DESCRIPTION:
URL:https://wbg.marl.de/termine/05c-coolness-impulstraining/
END:VEVENT
BEGIN:VEVENT
DTSTART;TZID=Europe/Berlin:20260203T140000
DTEND;TZID=Europe/Berlin:20260203T150000
DTSTAMP:20260421T181023
CREATED:20250922T040913Z
LAST-MODIFIED:20250922T040913Z
UID:3521-1770127200-1770130800@wbg.marl.de
SUMMARY:Teamkonferenz 4
DESCRIPTION:
URL:https://wbg.marl.de/termine/teamkonferenz-4/
END:VEVENT
END:VCALENDAR