BEGIN:VCALENDAR
VERSION:2.0
PRODID:-//Willy-Brandt-Gesamtschule - ECPv6.15.20//NONSGML v1.0//EN
CALSCALE:GREGORIAN
METHOD:PUBLISH
X-ORIGINAL-URL:https://wbg.marl.de
X-WR-CALDESC:Veranstaltungen für Willy-Brandt-Gesamtschule
REFRESH-INTERVAL;VALUE=DURATION:PT1H
X-Robots-Tag:noindex
X-PUBLISHED-TTL:PT1H
BEGIN:VTIMEZONE
TZID:Europe/Berlin
BEGIN:DAYLIGHT
TZOFFSETFROM:+0100
TZOFFSETTO:+0200
TZNAME:CEST
DTSTART:20250330T010000
END:DAYLIGHT
BEGIN:STANDARD
TZOFFSETFROM:+0200
TZOFFSETTO:+0100
TZNAME:CET
DTSTART:20251026T010000
END:STANDARD
BEGIN:DAYLIGHT
TZOFFSETFROM:+0100
TZOFFSETTO:+0200
TZNAME:CEST
DTSTART:20260329T010000
END:DAYLIGHT
BEGIN:STANDARD
TZOFFSETFROM:+0200
TZOFFSETTO:+0100
TZNAME:CET
DTSTART:20261025T010000
END:STANDARD
BEGIN:DAYLIGHT
TZOFFSETFROM:+0100
TZOFFSETTO:+0200
TZNAME:CEST
DTSTART:20270328T010000
END:DAYLIGHT
BEGIN:STANDARD
TZOFFSETFROM:+0200
TZOFFSETTO:+0100
TZNAME:CET
DTSTART:20271031T010000
END:STANDARD
END:VTIMEZONE
BEGIN:VEVENT
DTSTART;TZID=Europe/Berlin:20260219T010000
DTEND;TZID=Europe/Berlin:20260228T005959
DTSTAMP:20260421T163227
CREATED:20250922T040915Z
LAST-MODIFIED:20250922T040915Z
UID:3528-1771462800-1772240399@wbg.marl.de
SUMMARY:Q1 Skifahrt
DESCRIPTION:
URL:https://wbg.marl.de/termine/q1-skifahrt/
END:VEVENT
BEGIN:VEVENT
DTSTART;TZID=Europe/Berlin:20260223T010000
DTEND;TZID=Europe/Berlin:20260224T005959
DTSTAMP:20260421T163227
CREATED:20251208T111432Z
LAST-MODIFIED:20251208T111432Z
UID:3837-1771808400-1771894799@wbg.marl.de
SUMMARY:Potentialanalyse Jahrgang 8
DESCRIPTION:
URL:https://wbg.marl.de/termine/potentialanalyse-jahrgang-8-2/
END:VEVENT
BEGIN:VEVENT
DTSTART;TZID=Europe/Berlin:20260224T093000
DTEND;TZID=Europe/Berlin:20260224T103000
DTSTAMP:20260421T163227
CREATED:20260219T104311Z
LAST-MODIFIED:20260219T104311Z
UID:4147-1771925400-1771929000@wbg.marl.de
SUMMARY:unterrichtsfrei nach der 2. Stunde (Auftaktveranstaltung 50-Jahr-Jubiläum)
DESCRIPTION:
URL:https://wbg.marl.de/termine/unterrichtsfrei-nach-der-2-stunde-auftaktveranstaltung-50-jahr-jubilaeum/
END:VEVENT
BEGIN:VEVENT
DTSTART;TZID=Europe/Berlin:20260224T140000
DTEND;TZID=Europe/Berlin:20260224T180000
DTSTAMP:20260421T163227
CREATED:20250922T040915Z
LAST-MODIFIED:20250922T040915Z
UID:3529-1771941600-1771956000@wbg.marl.de
SUMMARY:Auftaktveranstaltung 50 Jahre WBG
DESCRIPTION:
URL:https://wbg.marl.de/termine/auftaktveranstaltung-50-jahre-wbg/
END:VEVENT
END:VCALENDAR