BEGIN:VCALENDAR
VERSION:2.0
PRODID:-//Willy-Brandt-Gesamtschule - ECPv6.15.20//NONSGML v1.0//EN
CALSCALE:GREGORIAN
METHOD:PUBLISH
X-ORIGINAL-URL:https://wbg.marl.de
X-WR-CALDESC:Veranstaltungen für Willy-Brandt-Gesamtschule
REFRESH-INTERVAL;VALUE=DURATION:PT1H
X-Robots-Tag:noindex
X-PUBLISHED-TTL:PT1H
BEGIN:VTIMEZONE
TZID:Europe/Berlin
BEGIN:DAYLIGHT
TZOFFSETFROM:+0100
TZOFFSETTO:+0200
TZNAME:CEST
DTSTART:20250330T010000
END:DAYLIGHT
BEGIN:STANDARD
TZOFFSETFROM:+0200
TZOFFSETTO:+0100
TZNAME:CET
DTSTART:20251026T010000
END:STANDARD
BEGIN:DAYLIGHT
TZOFFSETFROM:+0100
TZOFFSETTO:+0200
TZNAME:CEST
DTSTART:20260329T010000
END:DAYLIGHT
BEGIN:STANDARD
TZOFFSETFROM:+0200
TZOFFSETTO:+0100
TZNAME:CET
DTSTART:20261025T010000
END:STANDARD
BEGIN:DAYLIGHT
TZOFFSETFROM:+0100
TZOFFSETTO:+0200
TZNAME:CEST
DTSTART:20270328T010000
END:DAYLIGHT
BEGIN:STANDARD
TZOFFSETFROM:+0200
TZOFFSETTO:+0100
TZNAME:CET
DTSTART:20271031T010000
END:STANDARD
END:VTIMEZONE
BEGIN:VEVENT
DTSTART;TZID=Europe/Berlin:20260512T020000
DTEND;TZID=Europe/Berlin:20260513T015959
DTSTAMP:20260421T151933
CREATED:20250922T040925Z
LAST-MODIFIED:20250922T040925Z
UID:3566-1778551200-1778637599@wbg.marl.de
SUMMARY:Übergabe externe Zweitkorrektur
DESCRIPTION:
URL:https://wbg.marl.de/termine/uebergabe-externe-zweitkorrektur-2/
END:VEVENT
BEGIN:VEVENT
DTSTART;TZID=Europe/Berlin:20260512T140000
DTEND;TZID=Europe/Berlin:20260512T160000
DTSTAMP:20260421T151933
CREATED:20250922T040925Z
LAST-MODIFIED:20250922T040925Z
UID:3567-1778594400-1778601600@wbg.marl.de
SUMMARY:FK Naturwissenschaften
DESCRIPTION:
URL:https://wbg.marl.de/termine/fk-naturwissenschaften/
END:VEVENT
BEGIN:VEVENT
DTSTART;TZID=Europe/Berlin:20260513T020000
DTEND;TZID=Europe/Berlin:20260514T015959
DTSTAMP:20260421T151933
CREATED:20250922T040926Z
LAST-MODIFIED:20250922T040926Z
UID:3568-1778637600-1778723999@wbg.marl.de
SUMMARY:ZP 10 Deutsch
DESCRIPTION:
URL:https://wbg.marl.de/termine/zp-10-deutsch/
END:VEVENT
BEGIN:VEVENT
DTSTART;TZID=Europe/Berlin:20260514T020000
DTEND;TZID=Europe/Berlin:20260515T015959
DTSTAMP:20260421T151933
CREATED:20250922T040926Z
LAST-MODIFIED:20250922T040926Z
UID:3569-1778724000-1778810399@wbg.marl.de
SUMMARY:Christi Himmelfahrt (unterrichtsfrei)
DESCRIPTION:
URL:https://wbg.marl.de/termine/christi-himmelfahrt-unterrichtsfrei/
END:VEVENT
BEGIN:VEVENT
DTSTART;TZID=Europe/Berlin:20260515T020000
DTEND;TZID=Europe/Berlin:20260516T015959
DTSTAMP:20260421T151933
CREATED:20250922T040926Z
LAST-MODIFIED:20250922T040926Z
UID:3570-1778810400-1778896799@wbg.marl.de
SUMMARY:beweglicher Ferientag
DESCRIPTION:
URL:https://wbg.marl.de/termine/beweglicher-ferientag-3/
END:VEVENT
BEGIN:VEVENT
DTSTART;TZID=Europe/Berlin:20260519T020000
DTEND;TZID=Europe/Berlin:20260520T015959
DTSTAMP:20260421T151933
CREATED:20250922T040927Z
LAST-MODIFIED:20250922T040927Z
UID:3571-1779156000-1779242399@wbg.marl.de
SUMMARY:ZP 10 Englisch
DESCRIPTION:
URL:https://wbg.marl.de/termine/zp-10-englisch/
END:VEVENT
BEGIN:VEVENT
DTSTART;TZID=Europe/Berlin:20260519T140000
DTEND;TZID=Europe/Berlin:20260519T160000
DTSTAMP:20260421T151933
CREATED:20250922T040927Z
LAST-MODIFIED:20250922T040927Z
UID:3572-1779199200-1779206400@wbg.marl.de
SUMMARY:Lehrkräftekonferenz 4
DESCRIPTION:
URL:https://wbg.marl.de/termine/lehrkraeftekonferenz-4/
END:VEVENT
BEGIN:VEVENT
DTSTART;TZID=Europe/Berlin:20260525T020000
DTEND;TZID=Europe/Berlin:20260526T015959
DTSTAMP:20260421T151933
CREATED:20250922T040927Z
LAST-MODIFIED:20250922T040927Z
UID:3573-1779674400-1779760799@wbg.marl.de
SUMMARY:Pfingstmontag (unterrichtsfrei)
DESCRIPTION:
URL:https://wbg.marl.de/termine/pfingstmontag-unterrichtsfrei/
END:VEVENT
BEGIN:VEVENT
DTSTART;TZID=Europe/Berlin:20260526T020000
DTEND;TZID=Europe/Berlin:20260527T015959
DTSTAMP:20260421T151933
CREATED:20250922T040928Z
LAST-MODIFIED:20250922T040928Z
UID:3574-1779760800-1779847199@wbg.marl.de
SUMMARY:Pfingstferien
DESCRIPTION:
URL:https://wbg.marl.de/termine/pfingstferien-2/
END:VEVENT
BEGIN:VEVENT
DTSTART;TZID=Europe/Berlin:20260527T020000
DTEND;TZID=Europe/Berlin:20260528T015959
DTSTAMP:20260421T151933
CREATED:20250922T040928Z
LAST-MODIFIED:20250922T040928Z
UID:3575-1779847200-1779933599@wbg.marl.de
SUMMARY:Projekttag Mathematik EF
DESCRIPTION:
URL:https://wbg.marl.de/termine/projekttag-mathematik-ef/
END:VEVENT
BEGIN:VEVENT
DTSTART;TZID=Europe/Berlin:20260528T020000
DTEND;TZID=Europe/Berlin:20260529T015959
DTSTAMP:20260421T151933
CREATED:20250922T040928Z
LAST-MODIFIED:20250922T040928Z
UID:3576-1779933600-1780019999@wbg.marl.de
SUMMARY:ZP 10 Mathematik
DESCRIPTION:
URL:https://wbg.marl.de/termine/zp-10-mathematik/
END:VEVENT
BEGIN:VEVENT
DTSTART;TZID=Europe/Berlin:20260529T020000
DTEND;TZID=Europe/Berlin:20260530T015959
DTSTAMP:20260421T151933
CREATED:20250922T040928Z
LAST-MODIFIED:20250922T040928Z
UID:3577-1780020000-1780106399@wbg.marl.de
SUMMARY:EF Zentrale Klausur Deutsch
DESCRIPTION:
URL:https://wbg.marl.de/termine/ef-zentrale-klausur-deutsch/
END:VEVENT
BEGIN:VEVENT
DTSTART;TZID=Europe/Berlin:20260529T140000
DTEND;TZID=Europe/Berlin:20260529T150000
DTSTAMP:20260421T151933
CREATED:20250922T040929Z
LAST-MODIFIED:20250922T040929Z
UID:3578-1780063200-1780066800@wbg.marl.de
SUMMARY:DB mündliches Abitur
DESCRIPTION:
URL:https://wbg.marl.de/termine/db-muendliches-abitur-2/
END:VEVENT
BEGIN:VEVENT
DTSTART;TZID=Europe/Berlin:20260601T020000
DTEND;TZID=Europe/Berlin:20260602T015959
DTSTAMP:20260421T151933
CREATED:20250922T040929Z
LAST-MODIFIED:20250922T040929Z
UID:3579-1780279200-1780365599@wbg.marl.de
SUMMARY:mündliche Abiturprüfungen (unterrichtsfrei Jg. 5-Q1)
DESCRIPTION:
URL:https://wbg.marl.de/termine/muendliche-abiturpruefungen-unterrichtsfrei-jg-5-q1/
END:VEVENT
BEGIN:VEVENT
DTSTART;TZID=Europe/Berlin:20260602T020000
DTEND;TZID=Europe/Berlin:20260603T015959
DTSTAMP:20260421T151933
CREATED:20250922T040929Z
LAST-MODIFIED:20250922T040929Z
UID:3580-1780365600-1780451999@wbg.marl.de
SUMMARY:mündliche Abiturprüfungen\, Rückgabe externe Zweitkorrektur\, Nachtermin ZP 10 Deutsch
DESCRIPTION:
URL:https://wbg.marl.de/termine/muendliche-abiturpruefungen-rueckgabe-externe-zweitkorrektur-nachtermin-zp-10-deutsch/
END:VEVENT
BEGIN:VEVENT
DTSTART;TZID=Europe/Berlin:20260603T020000
DTEND;TZID=Europe/Berlin:20260604T015959
DTSTAMP:20260421T151933
CREATED:20250922T040930Z
LAST-MODIFIED:20250922T040930Z
UID:3581-1780452000-1780538399@wbg.marl.de
SUMMARY:Nachtermin ZP 10 Englisch\, EF Zentrale Klausur Mathematik\, Abgabe aller Abiturergebnisse
DESCRIPTION:
URL:https://wbg.marl.de/termine/nachtermin-zp-10-englisch-ef-zentrale-klausur-mathematik-abgabe-aller-abiturergebnisse/
END:VEVENT
BEGIN:VEVENT
DTSTART;TZID=Europe/Berlin:20260604T020000
DTEND;TZID=Europe/Berlin:20260605T015959
DTSTAMP:20260421T151933
CREATED:20250922T040930Z
LAST-MODIFIED:20250922T040930Z
UID:3582-1780538400-1780624799@wbg.marl.de
SUMMARY:Fronleichnam (unterrichtsfrei)
DESCRIPTION:
URL:https://wbg.marl.de/termine/fronleichnam-unterrichtsfrei/
END:VEVENT
BEGIN:VEVENT
DTSTART;TZID=Europe/Berlin:20260604T020000
DTEND;TZID=Europe/Berlin:20260608T015959
DTSTAMP:20260421T151933
CREATED:20260129T121502Z
LAST-MODIFIED:20260129T121502Z
UID:4049-1780538400-1780883999@wbg.marl.de
SUMMARY:Jubliäumsfahrt Frankreich
DESCRIPTION:
URL:https://wbg.marl.de/termine/jubliaeumsfahrt-frankreich/
END:VEVENT
BEGIN:VEVENT
DTSTART;TZID=Europe/Berlin:20260605T020000
DTEND;TZID=Europe/Berlin:20260606T015959
DTSTAMP:20260421T151933
CREATED:20250922T040930Z
LAST-MODIFIED:20250922T040930Z
UID:3583-1780624800-1780711199@wbg.marl.de
SUMMARY:beweglicher Ferientag
DESCRIPTION:
URL:https://wbg.marl.de/termine/beweglicher-ferientag-4/
END:VEVENT
BEGIN:VEVENT
DTSTART;TZID=Europe/Berlin:20260608T130000
DTEND;TZID=Europe/Berlin:20260608T140000
DTSTAMP:20260421T151933
CREATED:20250922T040930Z
LAST-MODIFIED:20250922T040930Z
UID:3584-1780923600-1780927200@wbg.marl.de
SUMMARY:Abgabe Noten ZP 10
DESCRIPTION:
URL:https://wbg.marl.de/termine/abgabe-noten-zp-10/
END:VEVENT
BEGIN:VEVENT
DTSTART;TZID=Europe/Berlin:20260609T020000
DTEND;TZID=Europe/Berlin:20260610T015959
DTSTAMP:20260421T151933
CREATED:20250922T040931Z
LAST-MODIFIED:20250922T040931Z
UID:3585-1780970400-1781056799@wbg.marl.de
SUMMARY:Nachtermin ZP10 Mathematik
DESCRIPTION:
URL:https://wbg.marl.de/termine/nachtermin-zp10-mathematik/
END:VEVENT
BEGIN:VEVENT
DTSTART;TZID=Europe/Berlin:20260610T020000
DTEND;TZID=Europe/Berlin:20260611T015959
DTSTAMP:20260421T151933
CREATED:20250922T040931Z
LAST-MODIFIED:20250922T040931Z
UID:3586-1781056800-1781143199@wbg.marl.de
SUMMARY:Q2 Bekanntgabe Abiturergebnisse
DESCRIPTION:
URL:https://wbg.marl.de/termine/q2-bekanntgabe-abiturergebnisse/
END:VEVENT
BEGIN:VEVENT
DTSTART;TZID=Europe/Berlin:20260611T020000
DTEND;TZID=Europe/Berlin:20260612T015959
DTSTAMP:20260421T151933
CREATED:20260219T104311Z
LAST-MODIFIED:20260219T104311Z
UID:4148-1781143200-1781229599@wbg.marl.de
SUMMARY:Ausbildungsbotschafter Jg. 9
DESCRIPTION:
URL:https://wbg.marl.de/termine/ausbildungsbotschafter-jg-9/
END:VEVENT
BEGIN:VEVENT
DTSTART;TZID=Europe/Berlin:20260611T075500
DTEND;TZID=Europe/Berlin:20260611T080000
DTSTAMP:20260421T151933
CREATED:20250922T040931Z
LAST-MODIFIED:20250922T040931Z
UID:3587-1781164500-1781164800@wbg.marl.de
SUMMARY:Anmeldeschluss Nachprüfungen Abitur
DESCRIPTION:
URL:https://wbg.marl.de/termine/anmeldeschluss-nachpruefungen-abitur/
END:VEVENT
BEGIN:VEVENT
DTSTART;TZID=Europe/Berlin:20260611T180000
DTEND;TZID=Europe/Berlin:20260611T190000
DTSTAMP:20260421T151933
CREATED:20250922T040931Z
LAST-MODIFIED:20250922T040931Z
UID:3588-1781200800-1781204400@wbg.marl.de
SUMMARY:Schulkonferenz II
DESCRIPTION:
URL:https://wbg.marl.de/termine/schulkonferenz-ii/
END:VEVENT
BEGIN:VEVENT
DTSTART;TZID=Europe/Berlin:20260616T020000
DTEND;TZID=Europe/Berlin:20260617T015959
DTSTAMP:20260421T151933
CREATED:20250922T040931Z
LAST-MODIFIED:20250922T040931Z
UID:3589-1781575200-1781661599@wbg.marl.de
SUMMARY:Bekanntgabe Noten ZP 10
DESCRIPTION:
URL:https://wbg.marl.de/termine/bekanntgabe-noten-zp-10/
END:VEVENT
BEGIN:VEVENT
DTSTART;TZID=Europe/Berlin:20260617T020000
DTEND;TZID=Europe/Berlin:20260618T015959
DTSTAMP:20260421T151933
CREATED:20250917T053431Z
LAST-MODIFIED:20250917T053431Z
UID:3469-1781661600-1781747999@wbg.marl.de
SUMMARY:Q2 iPad-Rückgabe
DESCRIPTION:
URL:https://wbg.marl.de/termine/q2-ipad-rueckgabe/
END:VEVENT
BEGIN:VEVENT
DTSTART;TZID=Europe/Berlin:20260617T020000
DTEND;TZID=Europe/Berlin:20260618T015959
DTSTAMP:20260421T151933
CREATED:20250922T040932Z
LAST-MODIFIED:20250922T040932Z
UID:3590-1781661600-1781747999@wbg.marl.de
SUMMARY:Noteneingabe Jg. 9/10
DESCRIPTION:
URL:https://wbg.marl.de/termine/noteneingabe-jg-9-10/
END:VEVENT
BEGIN:VEVENT
DTSTART;TZID=Europe/Berlin:20260617T140000
DTEND;TZID=Europe/Berlin:20260617T150000
DTSTAMP:20260421T151933
CREATED:20250922T040932Z
LAST-MODIFIED:20250922T040932Z
UID:3591-1781704800-1781708400@wbg.marl.de
SUMMARY:DB Nachprüfungen Abitur
DESCRIPTION:
URL:https://wbg.marl.de/termine/db-nachpruefungen-abitur/
END:VEVENT
BEGIN:VEVENT
DTSTART;TZID=Europe/Berlin:20260618T020000
DTEND;TZID=Europe/Berlin:20260619T015959
DTSTAMP:20260421T151933
CREATED:20250922T040932Z
LAST-MODIFIED:20250922T040932Z
UID:3592-1781748000-1781834399@wbg.marl.de
SUMMARY:Jg. 10 Abgabe Anmeldungen mündliche Prüfungen ZP10
DESCRIPTION:
URL:https://wbg.marl.de/termine/jg-10-abgabe-anmeldungen-muendliche-pruefungen-zp10/
END:VEVENT
END:VCALENDAR