BEGIN:VCALENDAR
VERSION:2.0
PRODID:-//Willy-Brandt-Gesamtschule - ECPv6.15.20//NONSGML v1.0//EN
CALSCALE:GREGORIAN
METHOD:PUBLISH
X-WR-CALNAME:Willy-Brandt-Gesamtschule
X-ORIGINAL-URL:https://wbg.marl.de
X-WR-CALDESC:Veranstaltungen für Willy-Brandt-Gesamtschule
REFRESH-INTERVAL;VALUE=DURATION:PT1H
X-Robots-Tag:noindex
X-PUBLISHED-TTL:PT1H
BEGIN:VTIMEZONE
TZID:Europe/Berlin
BEGIN:DAYLIGHT
TZOFFSETFROM:+0100
TZOFFSETTO:+0200
TZNAME:CEST
DTSTART:20240331T010000
END:DAYLIGHT
BEGIN:STANDARD
TZOFFSETFROM:+0200
TZOFFSETTO:+0100
TZNAME:CET
DTSTART:20241027T010000
END:STANDARD
BEGIN:DAYLIGHT
TZOFFSETFROM:+0100
TZOFFSETTO:+0200
TZNAME:CEST
DTSTART:20250330T010000
END:DAYLIGHT
BEGIN:STANDARD
TZOFFSETFROM:+0200
TZOFFSETTO:+0100
TZNAME:CET
DTSTART:20251026T010000
END:STANDARD
BEGIN:DAYLIGHT
TZOFFSETFROM:+0100
TZOFFSETTO:+0200
TZNAME:CEST
DTSTART:20260329T010000
END:DAYLIGHT
BEGIN:STANDARD
TZOFFSETFROM:+0200
TZOFFSETTO:+0100
TZNAME:CET
DTSTART:20261025T010000
END:STANDARD
END:VTIMEZONE
BEGIN:VEVENT
DTSTART;TZID=Europe/Berlin:20250918T183000
DTEND;TZID=Europe/Berlin:20250918T193000
DTSTAMP:20260421T235903
CREATED:20250917T053419Z
LAST-MODIFIED:20250917T053419Z
UID:3448-1758220200-1758223800@wbg.marl.de
SUMMARY:Klassenpflegschaften SekII
DESCRIPTION:
URL:https://wbg.marl.de/termine/klassenpflegschaften-sekii/
END:VEVENT
BEGIN:VEVENT
DTSTART;TZID=Europe/Berlin:20250919T084500
DTEND;TZID=Europe/Berlin:20250919T124000
DTSTAMP:20260421T235903
CREATED:20250917T053420Z
LAST-MODIFIED:20250917T053420Z
UID:3449-1758271500-1758285600@wbg.marl.de
SUMMARY:Weltkindertag (Jg. 5/6)
DESCRIPTION:
URL:https://wbg.marl.de/termine/weltkindertag-jg-5-6/
END:VEVENT
BEGIN:VEVENT
DTSTART;TZID=Europe/Berlin:20250922T020000
DTEND;TZID=Europe/Berlin:20250923T015959
DTSTAMP:20260421T235903
CREATED:20250917T053421Z
LAST-MODIFIED:20250917T053421Z
UID:3451-1758506400-1758592799@wbg.marl.de
SUMMARY:Grugapark Jg. 7
DESCRIPTION:
URL:https://wbg.marl.de/termine/grugapark-jg-7/
END:VEVENT
BEGIN:VEVENT
DTSTART;TZID=Europe/Berlin:20250922T020000
DTEND;TZID=Europe/Berlin:20250923T015959
DTSTAMP:20260421T235903
CREATED:20250917T053422Z
LAST-MODIFIED:20250917T053422Z
UID:3452-1758506400-1758592799@wbg.marl.de
SUMMARY:Jg. 9 Polizeiprojekt "AnsprechBAR"
DESCRIPTION:
URL:https://wbg.marl.de/termine/jg-9-polizeiprojekt-ansprechbar/
END:VEVENT
BEGIN:VEVENT
DTSTART;TZID=Europe/Berlin:20250922T020000
DTEND;TZID=Europe/Berlin:20250927T015959
DTSTAMP:20260421T235903
CREATED:20250917T053420Z
LAST-MODIFIED:20250917T053420Z
UID:3450-1758506400-1758938399@wbg.marl.de
SUMMARY:Fahrten- und Projektwoche
DESCRIPTION:
URL:https://wbg.marl.de/termine/fahrten-und-projektwoche/
END:VEVENT
BEGIN:VEVENT
DTSTART;TZID=Europe/Berlin:20250923T020000
DTEND;TZID=Europe/Berlin:20250924T015959
DTSTAMP:20260421T235903
CREATED:20250917T053422Z
LAST-MODIFIED:20250917T053422Z
UID:3453-1758592800-1758679199@wbg.marl.de
SUMMARY:Grugapark Jg. 7
DESCRIPTION:
URL:https://wbg.marl.de/termine/grugapark-jg-7-2/
END:VEVENT
BEGIN:VEVENT
DTSTART;TZID=Europe/Berlin:20250923T020000
DTEND;TZID=Europe/Berlin:20250924T015959
DTSTAMP:20260421T235903
CREATED:20250917T053423Z
LAST-MODIFIED:20250917T053423Z
UID:3454-1758592800-1758679199@wbg.marl.de
SUMMARY:Projekttag EF
DESCRIPTION:
URL:https://wbg.marl.de/termine/projekttag-ef/
END:VEVENT
BEGIN:VEVENT
DTSTART;TZID=Europe/Berlin:20250923T020000
DTEND;TZID=Europe/Berlin:20250924T015959
DTSTAMP:20260421T235903
CREATED:20250917T053423Z
LAST-MODIFIED:20250917T053423Z
UID:3455-1758592800-1758679199@wbg.marl.de
SUMMARY:Screening Jg. 5
DESCRIPTION:
URL:https://wbg.marl.de/termine/screening-jg-5/
END:VEVENT
BEGIN:VEVENT
DTSTART;TZID=Europe/Berlin:20250923T020000
DTEND;TZID=Europe/Berlin:20250924T015959
DTSTAMP:20260421T235903
CREATED:20250917T053424Z
LAST-MODIFIED:20250917T053424Z
UID:3456-1758592800-1758679199@wbg.marl.de
SUMMARY:Tüftelboxen Jg. 7
DESCRIPTION:
URL:https://wbg.marl.de/termine/tueftelboxen-jg-7/
END:VEVENT
BEGIN:VEVENT
DTSTART;TZID=Europe/Berlin:20250924T020000
DTEND;TZID=Europe/Berlin:20250925T015959
DTSTAMP:20260421T235903
CREATED:20250917T053424Z
LAST-MODIFIED:20250917T053424Z
UID:3457-1758679200-1758765599@wbg.marl.de
SUMMARY:Screening Jg. 5
DESCRIPTION:
URL:https://wbg.marl.de/termine/screening-jg-5-2/
END:VEVENT
BEGIN:VEVENT
DTSTART;TZID=Europe/Berlin:20250924T020000
DTEND;TZID=Europe/Berlin:20250925T015959
DTSTAMP:20260421T235903
CREATED:20250917T053425Z
LAST-MODIFIED:20250917T053425Z
UID:3458-1758679200-1758765599@wbg.marl.de
SUMMARY:Tüftelboxen Jg. 7
DESCRIPTION:
URL:https://wbg.marl.de/termine/tueftelboxen-jg-7-2/
END:VEVENT
BEGIN:VEVENT
DTSTART;TZID=Europe/Berlin:20250926T020000
DTEND;TZID=Europe/Berlin:20250927T015959
DTSTAMP:20260421T235903
CREATED:20250917T053426Z
LAST-MODIFIED:20250917T053426Z
UID:3459-1758852000-1758938399@wbg.marl.de
SUMMARY:Sportfest
DESCRIPTION:
URL:https://wbg.marl.de/termine/sportfest/
END:VEVENT
BEGIN:VEVENT
DTSTART;TZID=Europe/Berlin:20250929T020000
DTEND;TZID=Europe/Berlin:20250930T015959
DTSTAMP:20260421T235903
CREATED:20250917T053426Z
LAST-MODIFIED:20250917T053426Z
UID:3460-1759111200-1759197599@wbg.marl.de
SUMMARY:SchiLF I (Distanzunterricht)
DESCRIPTION:
URL:https://wbg.marl.de/termine/schilf-i-distanzunterricht/
END:VEVENT
BEGIN:VEVENT
DTSTART;TZID=Europe/Berlin:20250930T140000
DTEND;TZID=Europe/Berlin:20250930T150000
DTSTAMP:20260421T235903
CREATED:20250917T053427Z
LAST-MODIFIED:20250917T053427Z
UID:3461-1759240800-1759244400@wbg.marl.de
SUMMARY:TK 2
DESCRIPTION:
URL:https://wbg.marl.de/termine/tk-2/
END:VEVENT
END:VCALENDAR