BEGIN:VCALENDAR
VERSION:2.0
PRODID:-//Willy-Brandt-Gesamtschule - ECPv6.15.20//NONSGML v1.0//EN
CALSCALE:GREGORIAN
METHOD:PUBLISH
X-ORIGINAL-URL:https://wbg.marl.de
X-WR-CALDESC:Veranstaltungen für Willy-Brandt-Gesamtschule
REFRESH-INTERVAL;VALUE=DURATION:PT1H
X-Robots-Tag:noindex
X-PUBLISHED-TTL:PT1H
BEGIN:VTIMEZONE
TZID:Europe/Berlin
BEGIN:DAYLIGHT
TZOFFSETFROM:+0100
TZOFFSETTO:+0200
TZNAME:CEST
DTSTART:20240331T010000
END:DAYLIGHT
BEGIN:STANDARD
TZOFFSETFROM:+0200
TZOFFSETTO:+0100
TZNAME:CET
DTSTART:20241027T010000
END:STANDARD
BEGIN:DAYLIGHT
TZOFFSETFROM:+0100
TZOFFSETTO:+0200
TZNAME:CEST
DTSTART:20250330T010000
END:DAYLIGHT
BEGIN:STANDARD
TZOFFSETFROM:+0200
TZOFFSETTO:+0100
TZNAME:CET
DTSTART:20251026T010000
END:STANDARD
BEGIN:DAYLIGHT
TZOFFSETFROM:+0100
TZOFFSETTO:+0200
TZNAME:CEST
DTSTART:20260329T010000
END:DAYLIGHT
BEGIN:STANDARD
TZOFFSETFROM:+0200
TZOFFSETTO:+0100
TZNAME:CET
DTSTART:20261025T010000
END:STANDARD
END:VTIMEZONE
BEGIN:VEVENT
DTSTART;TZID=Europe/Berlin:20251031T010000
DTEND;TZID=Europe/Berlin:20251101T005959
DTSTAMP:20260421T205907
CREATED:20250922T040904Z
LAST-MODIFIED:20250922T040904Z
UID:3488-1761872400-1761958799@wbg.marl.de
SUMMARY:Notenschuluss und Quartalsende Q2 1. Quartal
DESCRIPTION:
URL:https://wbg.marl.de/termine/notenschuluss-und-quartalsende-q2-1-quartal/
END:VEVENT
BEGIN:VEVENT
DTSTART;TZID=Europe/Berlin:20251031T010000
DTEND;TZID=Europe/Berlin:20251101T005959
DTSTAMP:20260421T205907
CREATED:20250922T040905Z
LAST-MODIFIED:20250922T040905Z
UID:3489-1761872400-1761958799@wbg.marl.de
SUMMARY:Berufsorientierungsmesse HBBK Jg. 10
DESCRIPTION:
URL:https://wbg.marl.de/termine/berufsorientierungsmesse-hbbk-jg-10/
END:VEVENT
BEGIN:VEVENT
DTSTART;TZID=Europe/Berlin:20251103T010000
DTEND;TZID=Europe/Berlin:20251104T005959
DTSTAMP:20260421T205907
CREATED:20250922T040905Z
LAST-MODIFIED:20250922T040905Z
UID:3490-1762131600-1762217999@wbg.marl.de
SUMMARY:Noten Sekundarstufe I
DESCRIPTION:
URL:https://wbg.marl.de/termine/noten-sekundarstufe-i/
END:VEVENT
BEGIN:VEVENT
DTSTART;TZID=Europe/Berlin:20251104T140000
DTEND;TZID=Europe/Berlin:20251104T160000
DTSTAMP:20260421T205907
CREATED:20250922T040905Z
LAST-MODIFIED:20250922T040905Z
UID:3491-1762264800-1762272000@wbg.marl.de
SUMMARY:FK Mathematik
DESCRIPTION:
URL:https://wbg.marl.de/termine/fk-mathematik/
END:VEVENT
BEGIN:VEVENT
DTSTART;TZID=Europe/Berlin:20251104T180000
DTEND;TZID=Europe/Berlin:20251104T190000
DTSTAMP:20260421T205907
CREATED:20250917T053430Z
LAST-MODIFIED:20250917T053430Z
UID:3467-1762279200-1762282800@wbg.marl.de
SUMMARY:Schulkonferenz I
DESCRIPTION:
URL:https://wbg.marl.de/termine/schulkonferenz-i/
END:VEVENT
BEGIN:VEVENT
DTSTART;TZID=Europe/Berlin:20251106T140000
DTEND;TZID=Europe/Berlin:20251106T150000
DTSTAMP:20260421T205907
CREATED:20250917T053430Z
LAST-MODIFIED:20250917T053430Z
UID:3468-1762437600-1762441200@wbg.marl.de
SUMMARY:DB BOP Jg. 9
DESCRIPTION:
URL:https://wbg.marl.de/termine/db-bop-jg-9/
END:VEVENT
BEGIN:VEVENT
DTSTART;TZID=Europe/Berlin:20251107T010000
DTEND;TZID=Europe/Berlin:20251108T005959
DTSTAMP:20260421T205907
CREATED:20250922T040905Z
LAST-MODIFIED:20250922T040905Z
UID:3492-1762477200-1762563599@wbg.marl.de
SUMMARY:Blaue Briefe AH/AT Jg. 10
DESCRIPTION:
URL:https://wbg.marl.de/termine/blaue-briefe-ah-at-jg-10/
END:VEVENT
BEGIN:VEVENT
DTSTART;TZID=Europe/Berlin:20251110T010000
DTEND;TZID=Europe/Berlin:20251113T005959
DTSTAMP:20260421T205907
CREATED:20250922T040906Z
LAST-MODIFIED:20250922T040906Z
UID:3493-1762736400-1762995599@wbg.marl.de
SUMMARY:Fair Mobil Jg. 6
DESCRIPTION:
URL:https://wbg.marl.de/termine/fair-mobil-jg-6/
END:VEVENT
BEGIN:VEVENT
DTSTART;TZID=Europe/Berlin:20251111T140000
DTEND;TZID=Europe/Berlin:20251111T160000
DTSTAMP:20260421T205907
CREATED:20250922T040906Z
LAST-MODIFIED:20250922T040906Z
UID:3494-1762869600-1762876800@wbg.marl.de
SUMMARY:FK Englisch
DESCRIPTION:
URL:https://wbg.marl.de/termine/fk-englisch/
END:VEVENT
BEGIN:VEVENT
DTSTART;TZID=Europe/Berlin:20251114T010000
DTEND;TZID=Europe/Berlin:20251115T005959
DTSTAMP:20260421T205907
CREATED:20250922T040906Z
LAST-MODIFIED:20250922T040906Z
UID:3495-1763082000-1763168399@wbg.marl.de
SUMMARY:Notenschluss und Quartalsende EF/Q1
DESCRIPTION:
URL:https://wbg.marl.de/termine/notenschluss-und-quartalsende-ef-q1/
END:VEVENT
BEGIN:VEVENT
DTSTART;TZID=Europe/Berlin:20251117T010000
DTEND;TZID=Europe/Berlin:20251122T005959
DTSTAMP:20260421T205907
CREATED:20250922T040906Z
LAST-MODIFIED:20250922T040906Z
UID:3496-1763341200-1763773199@wbg.marl.de
SUMMARY:Schnupperwoche Oberstufe Intern
DESCRIPTION:
URL:https://wbg.marl.de/termine/schnupperwoche-oberstufe-intern/
END:VEVENT
BEGIN:VEVENT
DTSTART;TZID=Europe/Berlin:20251118T140000
DTEND;TZID=Europe/Berlin:20251118T160000
DTSTAMP:20260421T205907
CREATED:20250922T040907Z
LAST-MODIFIED:20250922T040907Z
UID:3497-1763474400-1763481600@wbg.marl.de
SUMMARY:FK Deutsch
DESCRIPTION:
URL:https://wbg.marl.de/termine/fk-deutsch/
END:VEVENT
BEGIN:VEVENT
DTSTART;TZID=Europe/Berlin:20251119T010000
DTEND;TZID=Europe/Berlin:20251120T005959
DTSTAMP:20260421T205907
CREATED:20250922T040907Z
LAST-MODIFIED:20250922T040907Z
UID:3498-1763514000-1763600399@wbg.marl.de
SUMMARY:Lernberatungstag I (unterrichtsfrei)
DESCRIPTION:
URL:https://wbg.marl.de/termine/lernberatungstag-i-unterrichtsfrei/
END:VEVENT
BEGIN:VEVENT
DTSTART;TZID=Europe/Berlin:20251125T010000
DTEND;TZID=Europe/Berlin:20251126T005959
DTSTAMP:20260421T205907
CREATED:20250922T040907Z
LAST-MODIFIED:20250922T040907Z
UID:3499-1764032400-1764118799@wbg.marl.de
SUMMARY:SchiLF 2
DESCRIPTION:
URL:https://wbg.marl.de/termine/schilf-2/
END:VEVENT
END:VCALENDAR