BEGIN:VCALENDAR
VERSION:2.0
PRODID:-//Willy-Brandt-Gesamtschule - ECPv6.15.20//NONSGML v1.0//EN
CALSCALE:GREGORIAN
METHOD:PUBLISH
X-WR-CALNAME:Willy-Brandt-Gesamtschule
X-ORIGINAL-URL:https://wbg.marl.de
X-WR-CALDESC:Veranstaltungen für Willy-Brandt-Gesamtschule
REFRESH-INTERVAL;VALUE=DURATION:PT1H
X-Robots-Tag:noindex
X-PUBLISHED-TTL:PT1H
BEGIN:VTIMEZONE
TZID:Europe/Berlin
BEGIN:DAYLIGHT
TZOFFSETFROM:+0100
TZOFFSETTO:+0200
TZNAME:CEST
DTSTART:20250330T010000
END:DAYLIGHT
BEGIN:STANDARD
TZOFFSETFROM:+0200
TZOFFSETTO:+0100
TZNAME:CET
DTSTART:20251026T010000
END:STANDARD
BEGIN:DAYLIGHT
TZOFFSETFROM:+0100
TZOFFSETTO:+0200
TZNAME:CEST
DTSTART:20260329T010000
END:DAYLIGHT
BEGIN:STANDARD
TZOFFSETFROM:+0200
TZOFFSETTO:+0100
TZNAME:CET
DTSTART:20261025T010000
END:STANDARD
BEGIN:DAYLIGHT
TZOFFSETFROM:+0100
TZOFFSETTO:+0200
TZNAME:CEST
DTSTART:20270328T010000
END:DAYLIGHT
BEGIN:STANDARD
TZOFFSETFROM:+0200
TZOFFSETTO:+0100
TZNAME:CET
DTSTART:20271031T010000
END:STANDARD
END:VTIMEZONE
BEGIN:VEVENT
DTSTART;TZID=Europe/Berlin:20260420T020000
DTEND;TZID=Europe/Berlin:20260421T015959
DTSTAMP:20260421T135640
CREATED:20250922T040921Z
LAST-MODIFIED:20250922T040921Z
UID:3550-1776650400-1776736799@wbg.marl.de
SUMMARY:Abitur GK Pädagogik\, Erdkunde\, Geschichte\, Sozialwissenschaften\, Philosophie\, Katholisch Religion\, Evangelische Religion
DESCRIPTION:
URL:https://wbg.marl.de/termine/abitur-gk-paedagogik-erdkunde-geschichte-sozialwissenschaften-philosophie-katholisch-religion-evangelische-religion/
END:VEVENT
BEGIN:VEVENT
DTSTART;TZID=Europe/Berlin:20260421T020000
DTEND;TZID=Europe/Berlin:20260422T015959
DTSTAMP:20260421T135640
CREATED:20260129T121501Z
LAST-MODIFIED:20260129T121501Z
UID:4044-1776736800-1776823199@wbg.marl.de
SUMMARY:Vocatium Gelsenkirchen Jg. 9
DESCRIPTION:
URL:https://wbg.marl.de/termine/vocatium-gelsenkirchen-jg-9/
END:VEVENT
BEGIN:VEVENT
DTSTART;TZID=Europe/Berlin:20260421T140000
DTEND;TZID=Europe/Berlin:20260421T150000
DTSTAMP:20260421T135640
CREATED:20250922T040921Z
LAST-MODIFIED:20250922T040921Z
UID:3551-1776780000-1776783600@wbg.marl.de
SUMMARY:DB ZP 10
DESCRIPTION:
URL:https://wbg.marl.de/termine/db-zp-10/
END:VEVENT
BEGIN:VEVENT
DTSTART;TZID=Europe/Berlin:20260421T140000
DTEND;TZID=Europe/Berlin:20260421T150000
DTSTAMP:20260421T135640
CREATED:20250922T040921Z
LAST-MODIFIED:20250922T040921Z
UID:3552-1776780000-1776783600@wbg.marl.de
SUMMARY:FK BOP
DESCRIPTION:
URL:https://wbg.marl.de/termine/fk-bop/
END:VEVENT
BEGIN:VEVENT
DTSTART;TZID=Europe/Berlin:20260421T183000
DTEND;TZID=Europe/Berlin:20260421T193000
DTSTAMP:20260421T135640
CREATED:20250922T040922Z
LAST-MODIFIED:20250922T040922Z
UID:3553-1776796200-1776799800@wbg.marl.de
SUMMARY:Jg. 6 Infoabend WP I
DESCRIPTION:
URL:https://wbg.marl.de/termine/jg-6-infoabend-wp-i/
END:VEVENT
BEGIN:VEVENT
DTSTART;TZID=Europe/Berlin:20260422T020000
DTEND;TZID=Europe/Berlin:20260423T015959
DTSTAMP:20260421T135640
CREATED:20250922T040922Z
LAST-MODIFIED:20250922T040922Z
UID:3554-1776823200-1776909599@wbg.marl.de
SUMMARY:Abitur Biologie\, Informatik
DESCRIPTION:
URL:https://wbg.marl.de/termine/abitur-biologie-informatik-2/
END:VEVENT
BEGIN:VEVENT
DTSTART;TZID=Europe/Berlin:20260423T020000
DTEND;TZID=Europe/Berlin:20260424T015959
DTSTAMP:20260421T135640
CREATED:20250922T040922Z
LAST-MODIFIED:20250922T040922Z
UID:3555-1776909600-1776995999@wbg.marl.de
SUMMARY:Abitur Physik
DESCRIPTION:
URL:https://wbg.marl.de/termine/abitur-physik-2/
END:VEVENT
BEGIN:VEVENT
DTSTART;TZID=Europe/Berlin:20260423T020000
DTEND;TZID=Europe/Berlin:20260424T015959
DTSTAMP:20260421T135640
CREATED:20260129T121501Z
LAST-MODIFIED:20260129T121501Z
UID:4045-1776909600-1776995999@wbg.marl.de
SUMMARY:Abitur Sport LK 800m-Schwimmen
DESCRIPTION:
URL:https://wbg.marl.de/termine/abitur-sport-lk-800m-schwimmen/
END:VEVENT
BEGIN:VEVENT
DTSTART;TZID=Europe/Berlin:20260424T020000
DTEND;TZID=Europe/Berlin:20260425T015959
DTSTAMP:20260421T135640
CREATED:20250922T040922Z
LAST-MODIFIED:20250922T040922Z
UID:3556-1776996000-1777082399@wbg.marl.de
SUMMARY:Abitur Chemie
DESCRIPTION:
URL:https://wbg.marl.de/termine/abitur-chemie-2/
END:VEVENT
BEGIN:VEVENT
DTSTART;TZID=Europe/Berlin:20260424T020000
DTEND;TZID=Europe/Berlin:20260425T015959
DTSTAMP:20260421T135640
CREATED:20250922T040923Z
LAST-MODIFIED:20250922T040923Z
UID:3557-1776996000-1777082399@wbg.marl.de
SUMMARY:Blaue Briefe Jg. 9/10\, Ende 3. Quartal EF/Q1\, Notenschluss EF/Q1
DESCRIPTION:
URL:https://wbg.marl.de/termine/blaue-briefe-jg-9-10-ende-3-quartal-ef-q1-notenschluss-ef-q1/
END:VEVENT
BEGIN:VEVENT
DTSTART;TZID=Europe/Berlin:20260424T020000
DTEND;TZID=Europe/Berlin:20260425T015959
DTSTAMP:20260421T135640
CREATED:20260129T121501Z
LAST-MODIFIED:20260129T121501Z
UID:4046-1776996000-1777082399@wbg.marl.de
SUMMARY:Abitur Sport LK 20km-Rad
DESCRIPTION:
URL:https://wbg.marl.de/termine/abitur-sport-lk-20km-rad/
END:VEVENT
BEGIN:VEVENT
DTSTART;TZID=Europe/Berlin:20260428T020000
DTEND;TZID=Europe/Berlin:20260429T015959
DTSTAMP:20260421T135640
CREATED:20250922T040923Z
LAST-MODIFIED:20250922T040923Z
UID:3558-1777341600-1777427999@wbg.marl.de
SUMMARY:Azubitag
DESCRIPTION:
URL:https://wbg.marl.de/termine/azubitag-2/
END:VEVENT
BEGIN:VEVENT
DTSTART;TZID=Europe/Berlin:20260428T020000
DTEND;TZID=Europe/Berlin:20260429T015959
DTSTAMP:20260421T135640
CREATED:20250922T040923Z
LAST-MODIFIED:20250922T040923Z
UID:3559-1777341600-1777427999@wbg.marl.de
SUMMARY:Abitur Deutsch
DESCRIPTION:
URL:https://wbg.marl.de/termine/abitur-deutsch/
END:VEVENT
BEGIN:VEVENT
DTSTART;TZID=Europe/Berlin:20260429T020000
DTEND;TZID=Europe/Berlin:20260430T015959
DTSTAMP:20260421T135640
CREATED:20250922T040924Z
LAST-MODIFIED:20250922T040924Z
UID:3560-1777428000-1777514399@wbg.marl.de
SUMMARY:Lernberatungstag II (unterrichtsfrei)
DESCRIPTION:
URL:https://wbg.marl.de/termine/lernberatungstag-ii-unterrichtsfrei/
END:VEVENT
BEGIN:VEVENT
DTSTART;TZID=Europe/Berlin:20260430T020000
DTEND;TZID=Europe/Berlin:20260501T015959
DTSTAMP:20260421T135640
CREATED:20250922T040924Z
LAST-MODIFIED:20250922T040924Z
UID:3562-1777514400-1777600799@wbg.marl.de
SUMMARY:Mahnungen EF
DESCRIPTION:
URL:https://wbg.marl.de/termine/mahnungen-ef/
END:VEVENT
BEGIN:VEVENT
DTSTART;TZID=Europe/Berlin:20260430T020000
DTEND;TZID=Europe/Berlin:20260501T015959
DTSTAMP:20260421T135640
CREATED:20250922T040924Z
LAST-MODIFIED:20250922T040924Z
UID:3561-1777514400-1777600799@wbg.marl.de
SUMMARY:Abitur Englisch
DESCRIPTION:
URL:https://wbg.marl.de/termine/abitur-englisch-2/
END:VEVENT
END:VCALENDAR